BEGIN:VCALENDAR
VERSION:2.0
CALSCALE:GREGORIAN
PRODID:-//WordPress//RSVPMaker//EN
METHOD:REQUEST
BEGIN:VEVENT
DTSTAMP:20260425T005218Z
UID:30BB3825E8F631CC6075C0F87BB4978C@rsvpmaker.com
SEQUENCE:0
STATUS:CONFIRMED
DTSTART:20161025T150000Z
DTEND:20161025T160000Z
LOCATION:See\: https\://www.uupsbu.org/rsvpmaker/coram-retiree-brunch-
 2016-10-25/
SUMMARY:CORAM Retiree Brunch
DESCRIPTION:Event info\: https\://www.uupsbu.org/rsvpmaker/coram-retir
 ee-brunch-2016-10-25/
END:VEVENT
END:VCALENDAR