BEGIN:VCALENDAR
VERSION:2.0
CALSCALE:GREGORIAN
PRODID:-//WordPress//RSVPMaker//EN
METHOD:REQUEST
BEGIN:VEVENT
DTSTAMP:20260425T135127Z
UID:2421FCB1263B9530DF88F7F002E78EA5@rsvpmaker.com
SEQUENCE:0
STATUS:CONFIRMED
DTSTART:20160202T170000Z
DTEND:20160202T180000Z
LOCATION:See\: https\://www.uupsbu.org/rsvpmaker/da-advocacy-day-2016-
 2-2/
SUMMARY:DA Advocacy Day
DESCRIPTION:Event info\: https\://www.uupsbu.org/rsvpmaker/da-advocacy
 -day-2016-2-2/
END:VEVENT
END:VCALENDAR