BEGIN:VCALENDAR
VERSION:2.0
CALSCALE:GREGORIAN
PRODID:-//WordPress//RSVPMaker//EN
METHOD:REQUEST
BEGIN:VEVENT
DTSTAMP:20260424T231202Z
UID:DC82D632C9FCECB0778AFBC7924494A6@rsvpmaker.com
SEQUENCE:0
STATUS:CONFIRMED
DTSTART:20161125T170000Z
DTEND:20161125T180000Z
LOCATION:See\: https\://www.uupsbu.org/rsvpmaker/day-after-thanksgivin
 g-2016-11-25/
SUMMARY:Day After Thanksgiving
DESCRIPTION:Event info\: https\://www.uupsbu.org/rsvpmaker/day-after-t
 hanksgiving-2016-11-25/
END:VEVENT
END:VCALENDAR