BEGIN:VCALENDAR
VERSION:2.0
CALSCALE:GREGORIAN
PRODID:-//WordPress//RSVPMaker//EN
METHOD:REQUEST
BEGIN:VEVENT
DTSTAMP:20260424T185351Z
UID:A1BCB47486D5ABAEABF8FC1D64ABE62B@rsvpmaker.com
SEQUENCE:0
STATUS:CONFIRMED
DTSTART:20250210T170000Z
DTEND:20250210T180000Z
LOCATION:See\: https\://www.uupsbu.org/rsvpmaker/delegate-sign-up-day/
SUMMARY:Delegate Sign-up Day
DESCRIPTION:Event info\: https\://www.uupsbu.org/rsvpmaker/delegate-si
 gn-up-day/
END:VEVENT
END:VCALENDAR