BEGIN:VCALENDAR
VERSION:2.0
CALSCALE:GREGORIAN
PRODID:-//WordPress//RSVPMaker//EN
METHOD:REQUEST
BEGIN:VEVENT
DTSTAMP:20260424T173510Z
UID:2E9FCD6FD4B51D718872C02272648444@rsvpmaker.com
SEQUENCE:0
STATUS:CONFIRMED
DTSTART:20250305T170000Z
DTEND:20250305T180000Z
LOCATION:See\: https\://www.uupsbu.org/rsvpmaker/department-rep-meetin
 g-2/
SUMMARY:Department Rep Meeting
DESCRIPTION:Event info\: https\://www.uupsbu.org/rsvpmaker/department-
 rep-meeting-2/
END:VEVENT
END:VCALENDAR