BEGIN:VCALENDAR
VERSION:2.0
CALSCALE:GREGORIAN
PRODID:-//WordPress//RSVPMaker//EN
METHOD:REQUEST
BEGIN:VEVENT
DTSTAMP:20260425T010321Z
UID:35C1F9C50543AEEDF1A3167BCB9D2756@rsvpmaker.com
SEQUENCE:0
STATUS:CONFIRMED
DTSTART:20241015T160000Z
DTEND:20241015T170000Z
LOCATION:See\: https\://www.uupsbu.org/rsvpmaker/department-rep-meetin
 g/
SUMMARY:Department Rep Meeting
DESCRIPTION:Event info\: https\://www.uupsbu.org/rsvpmaker/department-
 rep-meeting/
END:VEVENT
END:VCALENDAR