BEGIN:VCALENDAR
VERSION:2.0
CALSCALE:GREGORIAN
PRODID:-//WordPress//RSVPMaker//EN
METHOD:REQUEST
BEGIN:VEVENT
DTSTAMP:20260425T222938Z
UID:A42B4DDE8771DA0B852889D591002AD6@rsvpmaker.com
SEQUENCE:0
STATUS:CONFIRMED
DTSTART:20231024T170000Z
DTEND:20231024T180000Z
LOCATION:See\: https\://www.uupsbu.org/rsvpmaker/department-representa
 tives-meeting-hybrid/
SUMMARY:Department Representatives Meeting (hybrid)
DESCRIPTION:Event info\: https\://www.uupsbu.org/rsvpmaker/department-
 representatives-meeting-hybrid/
END:VEVENT
END:VCALENDAR