BEGIN:VCALENDAR
VERSION:2.0
CALSCALE:GREGORIAN
PRODID:-//WordPress//RSVPMaker//EN
METHOD:REQUEST
BEGIN:VEVENT
DTSTAMP:20260424T051223Z
UID:4F53D60AEE2FFA2AF10E3463DA26B784@rsvpmaker.com
SEQUENCE:0
STATUS:CONFIRMED
DTSTART:20251104T170000Z
DTEND:20251104T180000Z
LOCATION:See\: https\://www.uupsbu.org/rsvpmaker/department-represnati
 ve-meeting/
SUMMARY:Department Representative Meeting
DESCRIPTION:Event info\: https\://www.uupsbu.org/rsvpmaker/department-
 represnative-meeting/
END:VEVENT
END:VCALENDAR