BEGIN:VCALENDAR
VERSION:2.0
CALSCALE:GREGORIAN
PRODID:-//WordPress//RSVPMaker//EN
METHOD:REQUEST
BEGIN:VEVENT
DTSTAMP:20260425T205324Z
UID:440E7C3EB9BBCD4C33C3535354A51605@rsvpmaker.com
SEQUENCE:0
STATUS:CONFIRMED
DTSTART:20231102T170000Z
DTEND:20231102T180000Z
LOCATION:See\: https\://www.uupsbu.org/rsvpmaker/discipline-and-counse
 ling-workshop/
SUMMARY:Discipline and Counseling Workshop (zoom only)
DESCRIPTION:Event info\: https\://www.uupsbu.org/rsvpmaker/discipline-
 and-counseling-workshop/
END:VEVENT
END:VCALENDAR