BEGIN:VCALENDAR
VERSION:2.0
CALSCALE:GREGORIAN
PRODID:-//WordPress//RSVPMaker//EN
METHOD:REQUEST
BEGIN:VEVENT
DTSTAMP:20260425T134749Z
UID:218A0AEFD1D1A4BE65601CC6DDC1520E@rsvpmaker.com
SEQUENCE:0
STATUS:CONFIRMED
DTSTART:20160218T210000Z
DTEND:20160218T220000Z
LOCATION:See\: https\://www.uupsbu.org/rsvpmaker/distinguished-lecture
 -in-working-class-studies-2016-2-18/
SUMMARY:Distinguished Lecture in Working Class Studies
DESCRIPTION:Event info\: https\://www.uupsbu.org/rsvpmaker/distinguish
 ed-lecture-in-working-class-studies-2016-2-18/
END:VEVENT
END:VCALENDAR