BEGIN:VCALENDAR
VERSION:2.0
CALSCALE:GREGORIAN
PRODID:-//WordPress//RSVPMaker//EN
METHOD:REQUEST
BEGIN:VEVENT
DTSTAMP:20260424T021737Z
UID:EBEF22399DD37C14FCBE768327022889@rsvpmaker.com
SEQUENCE:0
STATUS:CONFIRMED
DTSTART:20260112T170000Z
DTEND:20260112T180000Z
LOCATION:See\: https\://www.uupsbu.org/rsvpmaker/e-board-meeting/
SUMMARY:Executive Board meeting
DESCRIPTION:Event info\: https\://www.uupsbu.org/rsvpmaker/e-board-mee
 ting/
END:VEVENT
END:VCALENDAR