BEGIN:VCALENDAR
VERSION:2.0
CALSCALE:GREGORIAN
PRODID:-//WordPress//RSVPMaker//EN
METHOD:REQUEST
BEGIN:VEVENT
DTSTAMP:20260424T231028Z
UID:9CF81D8026A9018052C429CC4E56739B@rsvpmaker.com
SEQUENCE:0
STATUS:CONFIRMED
DTSTART:20161108T170000Z
DTEND:20161108T180000Z
LOCATION:See\: https\://www.uupsbu.org/rsvpmaker/election-day-2016-11-
 8/
SUMMARY:Election Day
DESCRIPTION:Event info\: https\://www.uupsbu.org/rsvpmaker/election-da
 y-2016-11-8/
END:VEVENT
END:VCALENDAR