BEGIN:VCALENDAR
VERSION:2.0
CALSCALE:GREGORIAN
PRODID:-//WordPress//RSVPMaker//EN
METHOD:REQUEST
BEGIN:VEVENT
DTSTAMP:20260425T141529Z
UID:CC225865B743ECC91C4743259813F604@rsvpmaker.com
SEQUENCE:0
STATUS:CONFIRMED
DTSTART:20240208T170000Z
DTEND:20240208T180000Z
LOCATION:See\: https\://www.uupsbu.org/rsvpmaker/employment-security-w
 orkshop-2/
SUMMARY:Employment Security Workshop (zoom)
DESCRIPTION:Event info\: https\://www.uupsbu.org/rsvpmaker/employment-
 security-workshop-2/
END:VEVENT
END:VCALENDAR