BEGIN:VCALENDAR
VERSION:2.0
CALSCALE:GREGORIAN
PRODID:-//WordPress//RSVPMaker//EN
METHOD:REQUEST
BEGIN:VEVENT
DTSTAMP:20260426T000028Z
UID:588FDFA645B7F3C260188494BCAFA149@rsvpmaker.com
SEQUENCE:0
STATUS:CONFIRMED
DTSTART:20230912T160000Z
DTEND:20230912T170000Z
LOCATION:See\: https\://www.uupsbu.org/rsvpmaker/employment-security-w
 orkshop/
SUMMARY:Employment Security Workshop
DESCRIPTION:Event info\: https\://www.uupsbu.org/rsvpmaker/employment-
 security-workshop/
END:VEVENT
END:VCALENDAR