BEGIN:VCALENDAR
VERSION:2.0
CALSCALE:GREGORIAN
PRODID:-//WordPress//RSVPMaker//EN
METHOD:REQUEST
BEGIN:VEVENT
DTSTAMP:20260425T135203Z
UID:F1B6F2857FB6D44DD73C7041E0AA0F19@rsvpmaker.com
SEQUENCE:0
STATUS:CONFIRMED
DTSTART:20160229T170000Z
DTEND:20160229T180000Z
LOCATION:See\: https\://www.uupsbu.org/rsvpmaker/eopeoc-advocacy-day-2
 016-2-29/
SUMMARY:EOP/EOC Advocacy Day
DESCRIPTION:Event info\: https\://www.uupsbu.org/rsvpmaker/eopeoc-advo
 cacy-day-2016-2-29/
END:VEVENT
END:VCALENDAR