BEGIN:VCALENDAR
VERSION:2.0
CALSCALE:GREGORIAN
PRODID:-//WordPress//RSVPMaker//EN
METHOD:REQUEST
BEGIN:VEVENT
DTSTAMP:20260425T185258Z
UID:B83AAC23B9528732C23CC7352950E880@rsvpmaker.com
SEQUENCE:0
STATUS:CONFIRMED
DTSTART:20151119T170000Z
DTEND:20151119T180000Z
LOCATION:See\: https\://www.uupsbu.org/rsvpmaker/exec-board-meeting-20
 15-11-19/
SUMMARY:Exec Board Meeting
DESCRIPTION:Event info\: https\://www.uupsbu.org/rsvpmaker/exec-board-
 meeting-2015-11-19/
END:VEVENT
END:VCALENDAR