BEGIN:VCALENDAR
VERSION:2.0
CALSCALE:GREGORIAN
PRODID:-//WordPress//RSVPMaker//EN
METHOD:REQUEST
BEGIN:VEVENT
DTSTAMP:20260425T170300Z
UID:6DA37DD3139AA4D9AA55B8D237EC5D4A@rsvpmaker.com
SEQUENCE:0
STATUS:CONFIRMED
DTSTART:20151210T170000Z
DTEND:20151210T180000Z
LOCATION:See\: https\://www.uupsbu.org/rsvpmaker/exec-board-meeting-20
 15-12-10/
SUMMARY:Exec Board Meeting
DESCRIPTION:Event info\: https\://www.uupsbu.org/rsvpmaker/exec-board-
 meeting-2015-12-10/
END:VEVENT
END:VCALENDAR