BEGIN:VCALENDAR
VERSION:2.0
CALSCALE:GREGORIAN
PRODID:-//WordPress//RSVPMaker//EN
METHOD:REQUEST
BEGIN:VEVENT
DTSTAMP:20260424T080216Z
UID:7634EA65A4E6D9041CFD3F7DE18E334A@rsvpmaker.com
SEQUENCE:0
STATUS:CONFIRMED
DTSTART:20170912T165900Z
DTEND:20170912T175900Z
LOCATION:See\: https\://www.uupsbu.org/rsvpmaker/exec-board-meeting-20
 17-09-12/
SUMMARY:Exec Board Meeting
DESCRIPTION:Event info\: https\://www.uupsbu.org/rsvpmaker/exec-board-
 meeting-2017-09-12/
END:VEVENT
END:VCALENDAR