BEGIN:VCALENDAR
VERSION:2.0
CALSCALE:GREGORIAN
PRODID:-//WordPress//RSVPMaker//EN
METHOD:REQUEST
BEGIN:VEVENT
DTSTAMP:20260424T033942Z
UID:8B5040A8A5BAF3E0E67386C2E3A9B903@rsvpmaker.com
SEQUENCE:0
STATUS:CONFIRMED
DTSTART:20171219T170000Z
DTEND:20171219T180000Z
LOCATION:See\: https\://www.uupsbu.org/rsvpmaker/exec-board-meeting-20
 17-12-19/
SUMMARY:Exec Board Meeting
DESCRIPTION:Event info\: https\://www.uupsbu.org/rsvpmaker/exec-board-
 meeting-2017-12-19/
END:VEVENT
END:VCALENDAR