BEGIN:VCALENDAR
VERSION:2.0
CALSCALE:GREGORIAN
PRODID:-//WordPress//RSVPMaker//EN
METHOD:REQUEST
BEGIN:VEVENT
DTSTAMP:20260425T004340Z
UID:A9A1D5317A33AE8CEF33961C34144F84@rsvpmaker.com
SEQUENCE:0
STATUS:CONFIRMED
DTSTART:20161005T160000Z
DTEND:20161005T170000Z
LOCATION:See\: https\://www.uupsbu.org/rsvpmaker/executive-board-meeti
 ng-2016-10-05/
SUMMARY:Executive Board Meeting
DESCRIPTION:Event info\: https\://www.uupsbu.org/rsvpmaker/executive-b
 oard-meeting-2016-10-05/
END:VEVENT
END:VCALENDAR