BEGIN:VCALENDAR
VERSION:2.0
CALSCALE:GREGORIAN
PRODID:-//WordPress//RSVPMaker//EN
METHOD:REQUEST
BEGIN:VEVENT
DTSTAMP:20260424T231120Z
UID:08B255A5D42B89B0585260B6F2360BDD@rsvpmaker.com
SEQUENCE:0
STATUS:CONFIRMED
DTSTART:20161102T160000Z
DTEND:20161102T170000Z
LOCATION:See\: https\://www.uupsbu.org/rsvpmaker/executive-board-meeti
 ng-2016-11-02/
SUMMARY:Executive Board Meeting
DESCRIPTION:Event info\: https\://www.uupsbu.org/rsvpmaker/executive-b
 oard-meeting-2016-11-02/
END:VEVENT
END:VCALENDAR