BEGIN:VCALENDAR
VERSION:2.0
CALSCALE:GREGORIAN
PRODID:-//WordPress//RSVPMaker//EN
METHOD:REQUEST
BEGIN:VEVENT
DTSTAMP:20260424T214754Z
UID:3493894FA4EA036CFC6433C3E2EE63B0@rsvpmaker.com
SEQUENCE:0
STATUS:CONFIRMED
DTSTART:20161207T170000Z
DTEND:20161207T180000Z
LOCATION:See\: https\://www.uupsbu.org/rsvpmaker/executive-board-meeti
 ng-2016-12-07/
SUMMARY:Executive Board Meeting
DESCRIPTION:Event info\: https\://www.uupsbu.org/rsvpmaker/executive-b
 oard-meeting-2016-12-07/
END:VEVENT
END:VCALENDAR