BEGIN:VCALENDAR
VERSION:2.0
CALSCALE:GREGORIAN
PRODID:-//WordPress//RSVPMaker//EN
METHOD:REQUEST
BEGIN:VEVENT
DTSTAMP:20260425T121433Z
UID:877A9BA7A98F75B90A9D49F53F15A858@rsvpmaker.com
SEQUENCE:0
STATUS:CONFIRMED
DTSTART:20160302T170000Z
DTEND:20160302T180000Z
LOCATION:See\: https\://www.uupsbu.org/rsvpmaker/executive-board-meeti
 ng-2016-3-2/
SUMMARY:Executive Board Meeting
DESCRIPTION:Event info\: https\://www.uupsbu.org/rsvpmaker/executive-b
 oard-meeting-2016-3-2/
END:VEVENT
END:VCALENDAR