BEGIN:VCALENDAR
VERSION:2.0
CALSCALE:GREGORIAN
PRODID:-//WordPress//RSVPMaker//EN
METHOD:REQUEST
BEGIN:VEVENT
DTSTAMP:20260425T104213Z
UID:DC6A6489640CA02B0D42DABEB8E46BB7@rsvpmaker.com
SEQUENCE:0
STATUS:CONFIRMED
DTSTART:20160406T160000Z
DTEND:20160406T170000Z
LOCATION:See\: https\://www.uupsbu.org/rsvpmaker/executive-board-meeti
 ng-2016-4-6/
SUMMARY:Executive Board Meeting
DESCRIPTION:Event info\: https\://www.uupsbu.org/rsvpmaker/executive-b
 oard-meeting-2016-4-6/
END:VEVENT
END:VCALENDAR