BEGIN:VCALENDAR
VERSION:2.0
CALSCALE:GREGORIAN
PRODID:-//WordPress//RSVPMaker//EN
METHOD:REQUEST
BEGIN:VEVENT
DTSTAMP:20260424T184013Z
UID:076A0C97D09CF1A0EC3E19C7F2529F2B@rsvpmaker.com
SEQUENCE:0
STATUS:CONFIRMED
DTSTART:20170201T170000Z
DTEND:20170201T180000Z
LOCATION:See\: https\://www.uupsbu.org/rsvpmaker/executive-board-meeti
 ng-2017-02-01/
SUMMARY:Executive Board Meeting
DESCRIPTION:Event info\: https\://www.uupsbu.org/rsvpmaker/executive-b
 oard-meeting-2017-02-01/
END:VEVENT
END:VCALENDAR