BEGIN:VCALENDAR
VERSION:2.0
CALSCALE:GREGORIAN
PRODID:-//WordPress//RSVPMaker//EN
METHOD:REQUEST
BEGIN:VEVENT
DTSTAMP:20260424T171142Z
UID:04ECB1FA28506CCB6F72B12C0245DDBC@rsvpmaker.com
SEQUENCE:0
STATUS:CONFIRMED
DTSTART:20170307T170000Z
DTEND:20170307T180000Z
LOCATION:See\: https\://www.uupsbu.org/rsvpmaker/executive-board-meeti
 ng-2017-03-07/
SUMMARY:Executive Board Meeting
DESCRIPTION:Event info\: https\://www.uupsbu.org/rsvpmaker/executive-b
 oard-meeting-2017-03-07/
END:VEVENT
END:VCALENDAR