BEGIN:VCALENDAR
VERSION:2.0
CALSCALE:GREGORIAN
PRODID:-//WordPress//RSVPMaker//EN
METHOD:REQUEST
BEGIN:VEVENT
DTSTAMP:20260424T154206Z
UID:08C5433A60135C32E34F46A71175850C@rsvpmaker.com
SEQUENCE:0
STATUS:CONFIRMED
DTSTART:20170411T160000Z
DTEND:20170411T170000Z
LOCATION:See\: https\://www.uupsbu.org/rsvpmaker/executive-board-meeti
 ng-2017-04-11/
SUMMARY:Executive Board Meeting
DESCRIPTION:Event info\: https\://www.uupsbu.org/rsvpmaker/executive-b
 oard-meeting-2017-04-11/
END:VEVENT
END:VCALENDAR