BEGIN:VCALENDAR
VERSION:2.0
CALSCALE:GREGORIAN
PRODID:-//WordPress//RSVPMaker//EN
METHOD:REQUEST
BEGIN:VEVENT
DTSTAMP:20260424T135453Z
UID:6ACA97005C68F1206823815F66102863@rsvpmaker.com
SEQUENCE:0
STATUS:CONFIRMED
DTSTART:20170502T160000Z
DTEND:20170502T170000Z
LOCATION:See\: https\://www.uupsbu.org/rsvpmaker/executive-board-meeti
 ng-2017-05-02/
SUMMARY:Executive Board Meeting
DESCRIPTION:Event info\: https\://www.uupsbu.org/rsvpmaker/executive-b
 oard-meeting-2017-05-02/
END:VEVENT
END:VCALENDAR