BEGIN:VCALENDAR
VERSION:2.0
CALSCALE:GREGORIAN
PRODID:-//WordPress//RSVPMaker//EN
METHOD:REQUEST
BEGIN:VEVENT
DTSTAMP:20260424T063446Z
UID:C4B31CE7D95C75CA70D50C19AEF08BF1@rsvpmaker.com
SEQUENCE:0
STATUS:CONFIRMED
DTSTART:20171017T160000Z
DTEND:20171017T170000Z
LOCATION:See\: https\://www.uupsbu.org/rsvpmaker/executive-board-meeti
 ng-2017-10-17/
SUMMARY:Executive Board Meeting
DESCRIPTION:Event info\: https\://www.uupsbu.org/rsvpmaker/executive-b
 oard-meeting-2017-10-17/
END:VEVENT
END:VCALENDAR