BEGIN:VCALENDAR
VERSION:2.0
CALSCALE:GREGORIAN
PRODID:-//WordPress//RSVPMaker//EN
METHOD:REQUEST
BEGIN:VEVENT
DTSTAMP:20260424T051349Z
UID:DF6D2338B2B8FCE1EC2F6DDA0A630EB0@rsvpmaker.com
SEQUENCE:0
STATUS:CONFIRMED
DTSTART:20171114T170000Z
DTEND:20171114T180000Z
LOCATION:See\: https\://www.uupsbu.org/rsvpmaker/executive-board-meeti
 ng-2017-11-14/
SUMMARY:Executive Board Meeting
DESCRIPTION:Event info\: https\://www.uupsbu.org/rsvpmaker/executive-b
 oard-meeting-2017-11-14/
END:VEVENT
END:VCALENDAR