BEGIN:VCALENDAR
VERSION:2.0
CALSCALE:GREGORIAN
PRODID:-//WordPress//RSVPMaker//EN
METHOD:REQUEST
BEGIN:VEVENT
DTSTAMP:20260424T021856Z
UID:F976B57BB9DD27AA2E7E7DF2825893A6@rsvpmaker.com
SEQUENCE:0
STATUS:CONFIRMED
DTSTART:20180212T170000Z
DTEND:20180212T180000Z
LOCATION:See\: https\://www.uupsbu.org/rsvpmaker/executive-board-meeti
 ng-2018-02-12/
SUMMARY:Executive Board Meeting
DESCRIPTION:Event info\: https\://www.uupsbu.org/rsvpmaker/executive-b
 oard-meeting-2018-02-12/
END:VEVENT
END:VCALENDAR