BEGIN:VCALENDAR
VERSION:2.0
CALSCALE:GREGORIAN
PRODID:-//WordPress//RSVPMaker//EN
METHOD:REQUEST
BEGIN:VEVENT
DTSTAMP:20260423T234708Z
UID:1BAFF70E2669E8376347EFD3A874A341@rsvpmaker.com
SEQUENCE:0
STATUS:CONFIRMED
DTSTART:20180313T160000Z
DTEND:20180313T170000Z
LOCATION:See\: https\://www.uupsbu.org/rsvpmaker/executive-board-meeti
 ng-2018-03-13/
SUMMARY:Executive Board Meeting
DESCRIPTION:Event info\: https\://www.uupsbu.org/rsvpmaker/executive-b
 oard-meeting-2018-03-13/
END:VEVENT
END:VCALENDAR