BEGIN:VCALENDAR
VERSION:2.0
CALSCALE:GREGORIAN
PRODID:-//WordPress//RSVPMaker//EN
METHOD:REQUEST
BEGIN:VEVENT
DTSTAMP:20260423T234800Z
UID:E449B9317DAD920C0DD5AD0A2A2D5E49@rsvpmaker.com
SEQUENCE:0
STATUS:CONFIRMED
DTSTART:20180321T160000Z
DTEND:20180321T170000Z
LOCATION:See\: https\://www.uupsbu.org/rsvpmaker/executive-board-meeti
 ng-2018-03-21/
SUMMARY:CANCELLED-Executive Board Meeting
DESCRIPTION:Event info\: https\://www.uupsbu.org/rsvpmaker/executive-b
 oard-meeting-2018-03-21/
END:VEVENT
END:VCALENDAR