BEGIN:VCALENDAR
VERSION:2.0
CALSCALE:GREGORIAN
PRODID:-//WordPress//RSVPMaker//EN
METHOD:REQUEST
BEGIN:VEVENT
DTSTAMP:20260423T114850Z
UID:59E0B2658E9F2E77F8D4D83F8D07CA84@rsvpmaker.com
SEQUENCE:0
STATUS:CONFIRMED
DTSTART:20180424T160000Z
DTEND:20180424T170000Z
LOCATION:See\: https\://www.uupsbu.org/rsvpmaker/executive-board-meeti
 ng-2018-04-24/
SUMMARY:Executive Board Meeting
DESCRIPTION:Event info\: https\://www.uupsbu.org/rsvpmaker/executive-b
 oard-meeting-2018-04-24/
END:VEVENT
END:VCALENDAR