BEGIN:VCALENDAR
VERSION:2.0
CALSCALE:GREGORIAN
PRODID:-//WordPress//RSVPMaker//EN
METHOD:REQUEST
BEGIN:VEVENT
DTSTAMP:20260424T080436Z
UID:2D2CA7EEDF739EF4C3800713EC482E1A@rsvpmaker.com
SEQUENCE:0
STATUS:CONFIRMED
DTSTART:20190108T170000Z
DTEND:20190108T180000Z
LOCATION:See\: https\://www.uupsbu.org/rsvpmaker/executive-board-meeti
 ng-2019-01-08/
SUMMARY:Executive Board Meeting
DESCRIPTION:Event info\: https\://www.uupsbu.org/rsvpmaker/executive-b
 oard-meeting-2019-01-08/
END:VEVENT
END:VCALENDAR