BEGIN:VCALENDAR
VERSION:2.0
CALSCALE:GREGORIAN
PRODID:-//WordPress//RSVPMaker//EN
METHOD:REQUEST
BEGIN:VEVENT
DTSTAMP:20260424T121554Z
UID:6211080FA89981F66B1A0C9D55C61D0F@rsvpmaker.com
SEQUENCE:0
STATUS:CONFIRMED
DTSTART:20190312T160000Z
DTEND:20190312T170000Z
LOCATION:See\: https\://www.uupsbu.org/rsvpmaker/executive-board-meeti
 ng-2019-03-12/
SUMMARY:Executive Board Meeting
DESCRIPTION:Event info\: https\://www.uupsbu.org/rsvpmaker/executive-b
 oard-meeting-2019-03-12/
END:VEVENT
END:VCALENDAR