BEGIN:VCALENDAR
VERSION:2.0
CALSCALE:GREGORIAN
PRODID:-//WordPress//RSVPMaker//EN
METHOD:REQUEST
BEGIN:VEVENT
DTSTAMP:20260424T121929Z
UID:E58AEA67B01FA747687F038DFDE066F6@rsvpmaker.com
SEQUENCE:0
STATUS:CONFIRMED
DTSTART:20190409T160000Z
DTEND:20190409T170000Z
LOCATION:See\: https\://www.uupsbu.org/rsvpmaker/executive-board-meeti
 ng-2019-04-09/
SUMMARY:Executive Board Meeting
DESCRIPTION:Event info\: https\://www.uupsbu.org/rsvpmaker/executive-b
 oard-meeting-2019-04-09/
END:VEVENT
END:VCALENDAR