BEGIN:VCALENDAR
VERSION:2.0
CALSCALE:GREGORIAN
PRODID:-//WordPress//RSVPMaker//EN
METHOD:REQUEST
BEGIN:VEVENT
DTSTAMP:20260424T140621Z
UID:F516DFB84B9051ED85B89CDC3A8AB7F5@rsvpmaker.com
SEQUENCE:0
STATUS:CONFIRMED
DTSTART:20190521T160000Z
DTEND:20190521T170000Z
LOCATION:See\: https\://www.uupsbu.org/rsvpmaker/executive-board-meeti
 ng-2019-05-14/
SUMMARY:Cancelled -Executive Board Meeting
DESCRIPTION:Event info\: https\://www.uupsbu.org/rsvpmaker/executive-b
 oard-meeting-2019-05-14/
END:VEVENT
END:VCALENDAR