BEGIN:VCALENDAR
VERSION:2.0
CALSCALE:GREGORIAN
PRODID:-//WordPress//RSVPMaker//EN
METHOD:REQUEST
BEGIN:VEVENT
DTSTAMP:20260424T153312Z
UID:3CFBDF468F0A03187F6CEE51A25E5E9A@rsvpmaker.com
SEQUENCE:0
STATUS:CONFIRMED
DTSTART:20190604T160000Z
DTEND:20190604T170000Z
LOCATION:See\: https\://www.uupsbu.org/rsvpmaker/executive-board-meeti
 ng-2019-6-4/
SUMMARY:Executive Board Meeting
DESCRIPTION:Event info\: https\://www.uupsbu.org/rsvpmaker/executive-b
 oard-meeting-2019-6-4/
END:VEVENT
END:VCALENDAR