BEGIN:VCALENDAR
VERSION:2.0
CALSCALE:GREGORIAN
PRODID:-//WordPress//RSVPMaker//EN
METHOD:REQUEST
BEGIN:VEVENT
DTSTAMP:20260425T222544Z
UID:804741413D7FE0E515B19A7FFC7B3027@rsvpmaker.com
SEQUENCE:0
STATUS:CONFIRMED
DTSTART:20230907T160000Z
DTEND:20230907T170000Z
LOCATION:See\: https\://www.uupsbu.org/rsvpmaker/executive-board-meeti
 ng-34/
SUMMARY:Executive Board Meeting
DESCRIPTION:Event info\: https\://www.uupsbu.org/rsvpmaker/executive-b
 oard-meeting-34/
END:VEVENT
END:VCALENDAR