BEGIN:VCALENDAR
VERSION:2.0
CALSCALE:GREGORIAN
PRODID:-//WordPress//RSVPMaker//EN
METHOD:REQUEST
BEGIN:VEVENT
DTSTAMP:20260425T205312Z
UID:B05851605AD0A7613AF514CD321A63E3@rsvpmaker.com
SEQUENCE:0
STATUS:CONFIRMED
DTSTART:20231004T160000Z
DTEND:20231004T170000Z
LOCATION:See\: https\://www.uupsbu.org/rsvpmaker/executive-board-meeti
 ng-35/
SUMMARY:Executive Board Meeting
DESCRIPTION:Event info\: https\://www.uupsbu.org/rsvpmaker/executive-b
 oard-meeting-35/
END:VEVENT
END:VCALENDAR