BEGIN:VCALENDAR
VERSION:2.0
CALSCALE:GREGORIAN
PRODID:-//WordPress//RSVPMaker//EN
METHOD:REQUEST
BEGIN:VEVENT
DTSTAMP:20260425T205323Z
UID:517DA335FD0EC2F4A25EA139D5494163@rsvpmaker.com
SEQUENCE:0
STATUS:CONFIRMED
DTSTART:20231109T170000Z
DTEND:20231109T180000Z
LOCATION:See\: https\://www.uupsbu.org/rsvpmaker/executive-board-meeti
 ng-36/
SUMMARY:Executive Board Meeting (hybrid)
DESCRIPTION:Event info\: https\://www.uupsbu.org/rsvpmaker/executive-b
 oard-meeting-36/
END:VEVENT
END:VCALENDAR