BEGIN:VCALENDAR
VERSION:2.0
CALSCALE:GREGORIAN
PRODID:-//WordPress//RSVPMaker//EN
METHOD:REQUEST
BEGIN:VEVENT
DTSTAMP:20260425T191703Z
UID:0459F8EBB506C02718D4B29B11F586A0@rsvpmaker.com
SEQUENCE:0
STATUS:CONFIRMED
DTSTART:20231214T170000Z
DTEND:20231214T180000Z
LOCATION:See\: https\://www.uupsbu.org/rsvpmaker/executive-board-meeti
 ng-37/
SUMMARY:Executive Board Meeting
DESCRIPTION:Event info\: https\://www.uupsbu.org/rsvpmaker/executive-b
 oard-meeting-37/
END:VEVENT
END:VCALENDAR