BEGIN:VCALENDAR
VERSION:2.0
CALSCALE:GREGORIAN
PRODID:-//WordPress//RSVPMaker//EN
METHOD:REQUEST
BEGIN:VEVENT
DTSTAMP:20260425T025346Z
UID:3DCF44C3136A27A28B3BB27586FD5FC5@rsvpmaker.com
SEQUENCE:0
STATUS:CONFIRMED
DTSTART:20240924T160000Z
DTEND:20240924T170000Z
LOCATION:See\: https\://www.uupsbu.org/rsvpmaker/executive-board-meeti
 ng-42/
SUMMARY:Executive Board Meeting
DESCRIPTION:Event info\: https\://www.uupsbu.org/rsvpmaker/executive-b
 oard-meeting-42/
END:VEVENT
END:VCALENDAR