BEGIN:VCALENDAR
VERSION:2.0
CALSCALE:GREGORIAN
PRODID:-//WordPress//RSVPMaker//EN
METHOD:REQUEST
BEGIN:VEVENT
DTSTAMP:20260425T010357Z
UID:C480540D4E8C0CF7AD03BA949E3A5280@rsvpmaker.com
SEQUENCE:0
STATUS:CONFIRMED
DTSTART:20241029T160000Z
DTEND:20241029T170000Z
LOCATION:See\: https\://www.uupsbu.org/rsvpmaker/executive-board-meeti
 ng-43/
SUMMARY:Executive Board Meeting
DESCRIPTION:Event info\: https\://www.uupsbu.org/rsvpmaker/executive-b
 oard-meeting-43/
END:VEVENT
END:VCALENDAR