BEGIN:VCALENDAR
VERSION:2.0
CALSCALE:GREGORIAN
PRODID:-//WordPress//RSVPMaker//EN
METHOD:REQUEST
BEGIN:VEVENT
DTSTAMP:20260424T185515Z
UID:7439AEBDBA054F0D586D486EF2AFF185@rsvpmaker.com
SEQUENCE:0
STATUS:CONFIRMED
DTSTART:20250219T170000Z
DTEND:20250219T180000Z
LOCATION:See\: https\://www.uupsbu.org/rsvpmaker/executive-board-meeti
 ng-46/
SUMMARY:Executive Board Meeting
DESCRIPTION:Event info\: https\://www.uupsbu.org/rsvpmaker/executive-b
 oard-meeting-46/
END:VEVENT
END:VCALENDAR