BEGIN:VCALENDAR
VERSION:2.0
CALSCALE:GREGORIAN
PRODID:-//WordPress//RSVPMaker//EN
METHOD:REQUEST
BEGIN:VEVENT
DTSTAMP:20260424T173536Z
UID:1A336426E09602A4F0118326DD6C72AC@rsvpmaker.com
SEQUENCE:0
STATUS:CONFIRMED
DTSTART:20250324T160000Z
DTEND:20250324T170000Z
LOCATION:See\: https\://www.uupsbu.org/rsvpmaker/executive-board-meeti
 ng-47/
SUMMARY:Executive Board Meeting
DESCRIPTION:Event info\: https\://www.uupsbu.org/rsvpmaker/executive-b
 oard-meeting-47/
END:VEVENT
END:VCALENDAR