BEGIN:VCALENDAR
VERSION:2.0
CALSCALE:GREGORIAN
PRODID:-//WordPress//RSVPMaker//EN
METHOD:REQUEST
BEGIN:VEVENT
DTSTAMP:20260424T141444Z
UID:FCE34B6AEF091B6FB2032870279690F8@rsvpmaker.com
SEQUENCE:0
STATUS:CONFIRMED
DTSTART:20250519T160000Z
DTEND:20250519T170000Z
LOCATION:See\: https\://www.uupsbu.org/rsvpmaker/executive-board-meeti
 ng-49/
SUMMARY:Executive Board Meeting
DESCRIPTION:Event info\: https\://www.uupsbu.org/rsvpmaker/executive-b
 oard-meeting-49/
END:VEVENT
END:VCALENDAR