BEGIN:VCALENDAR
VERSION:2.0
CALSCALE:GREGORIAN
PRODID:-//WordPress//RSVPMaker//EN
METHOD:REQUEST
BEGIN:VEVENT
DTSTAMP:20260424T051131Z
UID:A2F94D8E28139CE8120147D24FE3B8F6@rsvpmaker.com
SEQUENCE:0
STATUS:CONFIRMED
DTSTART:20251216T170000Z
DTEND:20251216T180000Z
LOCATION:See\: https\://www.uupsbu.org/rsvpmaker/executive-board-meeti
 ng-51/
SUMMARY:Executive Board Meeting
DESCRIPTION:Event info\: https\://www.uupsbu.org/rsvpmaker/executive-b
 oard-meeting-51/
END:VEVENT
END:VCALENDAR