BEGIN:VCALENDAR
VERSION:2.0
CALSCALE:GREGORIAN
PRODID:-//WordPress//RSVPMaker//EN
METHOD:REQUEST
BEGIN:VEVENT
DTSTAMP:20260424T063343Z
UID:502CC2C94BE1A7C4CA7EF25B8B50BC04@rsvpmaker.com
SEQUENCE:0
STATUS:CONFIRMED
DTSTART:20251020T160000Z
DTEND:20251020T170000Z
LOCATION:See\: https\://www.uupsbu.org/rsvpmaker/executive-board-meeti
 ng-54/
SUMMARY:Executive Board Meeting
DESCRIPTION:Event info\: https\://www.uupsbu.org/rsvpmaker/executive-b
 oard-meeting-54/
END:VEVENT
END:VCALENDAR